BEGIN:VCALENDAR
VERSION:2.0
PRODID:-//sinneserleben.de//Tantra Seminar//DE
CALSCALE:GREGORIAN
BEGIN:VEVENT
UID:f0d9e764749140bf8dea57cf6ff1e769@sinneserleben.de
DTSTAMP:20260419T143225Z
DTSTART:20270325T163000Z
DTEND:20270329T130000Z
SUMMARY:Beziehungsfähig - Liebesfähig - Kontaktfähig
LOCATION:Seminarhaus am Liebfrauenberg Am Liebfrauenberg 28\, 65618 Selters/Haintchen (Taunus)
END:VEVENT
END:VCALENDAR
