BEGIN:VCALENDAR
VERSION:2.0
PRODID:-//sinneserleben.de//Tantra Seminar//DE
CALSCALE:GREGORIAN
BEGIN:VEVENT
UID:a78add7760f72f3af10f0abb0024d37c@sinneserleben.de
DTSTAMP:20260419T153117Z
DTSTART:20260920T080000Z
DTEND:20260920T170000Z
SUMMARY:Tantra für Paare: Intimität und Achtsamkeit vertiefen
LOCATION:Seminarhaus Leuther Mühle Hinsbecker Straße 34\, 41334 Hinsbeck
END:VEVENT
END:VCALENDAR
